BEGIN:VCALENDAR
VERSION:2.0
PRODID:-//wp-events-plugin.com//6.5.2//EN
TZID:America/Chicago
X-WR-TIMEZONE:America/Chicago
BEGIN:VEVENT
UID:12@texaswings.org
DTSTART;TZID=America/Chicago;VALUE=DATE:20241012
DTEND;TZID=America/Chicago;VALUE=DATE:20241014
DTSTAMP:20241004T040911Z
URL:https://texaswings.org/events/battle-ropes-at-spenga/
SUMMARY:Battle Ropes at SPENGA
DESCRIPTION:Join us for Battle Ropes at Spenga- Rogers Ranch. They are host
 ing donation-based sessions that will benefit WINGS. Sign up today!\nWebsi
 te : https://rogersranchtx.spenga.com/\nStudio phone to register for class
  : 210 791 6261\n
ATTACH;FMTTYPE=image/jpeg:https://texaswings.org/wp-content/uploads/2024/1
 0/Ropes-BCA-1.png
END:VEVENT
BEGIN:VTIMEZONE
TZID:America/Chicago
X-LIC-LOCATION:America/Chicago
BEGIN:DAYLIGHT
DTSTART:20240310T030000
TZOFFSETFROM:-0600
TZOFFSETTO:-0500
TZNAME:CDT
END:DAYLIGHT
END:VTIMEZONE
END:VCALENDAR