BEGIN:VCALENDAR
VERSION:2.0
PRODID:-//wp-events-plugin.com//6.5.2//EN
TZID:America/Chicago
X-WR-TIMEZONE:America/Chicago
BEGIN:VEVENT
UID:20@texaswings.org
DTSTART;TZID=America/Chicago;VALUE=DATE:20241001
DTEND;TZID=America/Chicago;VALUE=DATE:20241101
DTSTAMP:20241007T204230Z
URL:https://texaswings.org/events/chicken-n-pickle-cluck-cancer-merch/
SUMMARY:Chicken N Pickle - Cluck Cancer Merch
DESCRIPTION:For October\, Chicken N Pickle is donating the proceeds from th
 eir Cluck Cancer Merch.\n\nThe pink hats are $20\, and Bags are $5.\n\nSto
 p by and get yours today!
ATTACH;FMTTYPE=image/jpeg:https://texaswings.org/wp-content/uploads/2024/1
 0/Cluck-Cancer_2024_SATX-1-pdf.jpg
END:VEVENT
BEGIN:VTIMEZONE
TZID:America/Chicago
X-LIC-LOCATION:America/Chicago
BEGIN:DAYLIGHT
DTSTART:20240310T030000
TZOFFSETFROM:-0600
TZOFFSETTO:-0500
TZNAME:CDT
END:DAYLIGHT
END:VTIMEZONE
END:VCALENDAR