BEGIN:VCALENDAR
VERSION:2.0
PRODID:-//wp-events-plugin.com//6.5.2//EN
TZID:America/Chicago
X-WR-TIMEZONE:America/Chicago
BEGIN:VEVENT
UID:18@texaswings.org
DTSTART;TZID=America/Chicago:20241001T000000
DTEND;TZID=America/Chicago:20241031T000000
DTSTAMP:20241005T051920Z
URL:https://texaswings.org/events/la-cantera-resort-spa/
SUMMARY:La Cantera Resort & Spa
DESCRIPTION:This October\, La Cantera Resort &amp\; Spa is embracing PINK. 
 When you book this special offer through October 31st\, a percentage of yo
 ur room rate will go to support Texas WINGS\, a local San Antonio organiza
 tion that provides breast health care services to uninsured women in Centr
 al and South Texas. For over five years\, we have proudly partnered with T
 exas WINGS\, and we invite you to join us in giving back. Book now and tog
 ether\, we can make a meaningful impact.\n\nTerms and conditions: Offer va
 lid for stays between October 1-31\, 2024. Some restrictions may apply. Re
 sort fee and taxes not included. Not valid with any other offer or for gro
 ups. Offer is based upon availability and subject to end without notice. E
 xclusive of taxes\, fees\, and parking. Blackout dates and other restricti
 ons may apply. Book now at La Cantera Resort &amp\; Spa\n\nBook Now
ATTACH;FMTTYPE=image/jpeg:https://texaswings.org/wp-content/uploads/2024/1
 0/Screenshot-2024-10-05-000408-e1728105369718.png
END:VEVENT
BEGIN:VTIMEZONE
TZID:America/Chicago
X-LIC-LOCATION:America/Chicago
BEGIN:DAYLIGHT
DTSTART:20240310T030000
TZOFFSETFROM:-0600
TZOFFSETTO:-0500
TZNAME:CDT
END:DAYLIGHT
END:VTIMEZONE
END:VCALENDAR