BEGIN:VCALENDAR
VERSION:2.0
PRODID:-//wp-events-plugin.com//6.5.2//EN
TZID:America/Chicago
X-WR-TIMEZONE:America/Chicago
BEGIN:VEVENT
UID:14@texaswings.org
DTSTART;TZID=America/Chicago:20241026T093000
DTEND;TZID=America/Chicago:20241026T093000
DTSTAMP:20241004T042838Z
URL:https://texaswings.org/events/method-wellness-meditation-and-yoga/
SUMMARY:Method Wellness Meditation and Yoga
DESCRIPTION:Method Wellness and Physical Therapy is hosting a Meditation an
 d a Yoga class on Saturday\, October 26th\, to benefit WINGS. The Meditati
 on class begins at 9:30 am\, and Yoga starts at 10 am! These classes will 
 be held at Urban Ecology Center Deck at Phil Hardberger Park\, 8400 NW Mil
 itary HWY\, San Antonio\, Tx\, 78231. We hope to see you there!
ATTACH;FMTTYPE=image/jpeg:https://texaswings.org/wp-content/uploads/2024/1
 0/image2.jpeg
END:VEVENT
BEGIN:VTIMEZONE
TZID:America/Chicago
X-LIC-LOCATION:America/Chicago
BEGIN:DAYLIGHT
DTSTART:20240310T030000
TZOFFSETFROM:-0600
TZOFFSETTO:-0500
TZNAME:CDT
END:DAYLIGHT
END:VTIMEZONE
END:VCALENDAR