BEGIN:VCALENDAR
VERSION:2.0
PRODID:-//wp-events-plugin.com//6.5.2//EN
TZID:America/Chicago
X-WR-TIMEZONE:America/Chicago
BEGIN:VEVENT
UID:19@texaswings.org
DTSTART;TZID=America/Chicago;VALUE=DATE:20241001
DTEND;TZID=America/Chicago;VALUE=DATE:20241101
DTSTAMP:20241005T052500Z
URL:https://texaswings.org/events/paloma-blanca-strawberry-tres-leches-cak
 e/
SUMMARY:Paloma Blanca - Strawberry Tres Leches Cake
DESCRIPTION:Strawberry Tres Leches Cake!  This sweet twist on a classic fa
 vorite is more than just a dessert—100% of the proceeds will go to   in 
 support of their   : “-   ”\, providing life-saving breast cancer trea
 tment.  Indulge in the flavors of Mexico while giving back to a meaningfu
 l cause. Enjoy this delicious treat\, but hurry—it's only here for Breas
 t Cancer Awareness Month this October!
ATTACH;FMTTYPE=image/jpeg:https://texaswings.org/wp-content/uploads/2024/1
 0/Screenshot-2024-10-05-002324.png
END:VEVENT
BEGIN:VTIMEZONE
TZID:America/Chicago
X-LIC-LOCATION:America/Chicago
BEGIN:DAYLIGHT
DTSTART:20240310T030000
TZOFFSETFROM:-0600
TZOFFSETTO:-0500
TZNAME:CDT
END:DAYLIGHT
END:VTIMEZONE
END:VCALENDAR