BEGIN:VCALENDAR
VERSION:2.0
PRODID:-//wp-events-plugin.com//6.5.2//EN
TZID:America/Chicago
X-WR-TIMEZONE:America/Chicago
BEGIN:VEVENT
UID:10@texaswings.org
DTSTART;TZID=America/Chicago:20241005T110000
DTEND;TZID=America/Chicago:20241005T150000
DTSTAMP:20241004T034234Z
URL:https://texaswings.org/events/wings-pink-ribbon-wellness-day/
SUMMARY:WINGS Pink Ribbon Wellness Day
DESCRIPTION:Survivors\, we invite YOU to our 2nd Annual Pink Ribbon Wellnes
 s Day this Saturday at North Star Mall! ✨⁠\nJoin the fun as we kick of
 f our first-ever “aBRAcadaBRA” Bra Decorating Contest\, running all mo
 nth long with a grand finale and awesome prizes! ⁠\n⁠\nCelebrate LIFE 
 and sisterhood with us in our SisterCircle\, where we honor survivors\, fr
 iends\, and family. Bring along your co-survivors and advocates—they’l
 l have a chance to win prizes\, too!
ATTACH;FMTTYPE=image/jpeg:https://texaswings.org/wp-content/uploads/2024/1
 0/Wings-Oct-5th.png
END:VEVENT
BEGIN:VTIMEZONE
TZID:America/Chicago
X-LIC-LOCATION:America/Chicago
BEGIN:DAYLIGHT
DTSTART:20240310T030000
TZOFFSETFROM:-0600
TZOFFSETTO:-0500
TZNAME:CDT
END:DAYLIGHT
END:VTIMEZONE
END:VCALENDAR