BEGIN:VCALENDAR
VERSION:2.0
PRODID:-//wp-events-plugin.com//6.5.2//EN
TZID:America/Chicago
X-WR-TIMEZONE:America/Chicago
BEGIN:VEVENT
UID:11@texaswings.org
DTSTART;TZID=America/Chicago:20241013T160000
DTEND;TZID=America/Chicago:20241013T180000
DTSTAMP:20241004T035215Z
URL:https://texaswings.org/events/wings-swings/
SUMMARY:WINGS & Swings
DESCRIPTION:Join us at Chicken N Pickle on Sunday\, October 13th\, from 4 p
 m to 6 pm for WINGS and Swings! 10% of food and beverage purchases will be
  donated to WINGS! Support uninsured women with breast cancer by having a 
 pink Sunday Funday\, playing pickleball with friends\, or watching the Cow
 boys game.\n\nLocation:  5215 UTSA Boulevard\, San Antonio\, Texas
ATTACH;FMTTYPE=image/jpeg:https://texaswings.org/wp-content/uploads/2024/1
 0/Chicken-N-Pickle-WINGS.jpg
END:VEVENT
BEGIN:VTIMEZONE
TZID:America/Chicago
X-LIC-LOCATION:America/Chicago
BEGIN:DAYLIGHT
DTSTART:20240310T030000
TZOFFSETFROM:-0600
TZOFFSETTO:-0500
TZNAME:CDT
END:DAYLIGHT
END:VTIMEZONE
END:VCALENDAR